BEGIN:VCALENDAR
VERSION:2.0
PRODID:-//ChamberMaster//Event Calendar 2.0//EN
METHOD:PUBLISH
X-PUBLISHED-TTL:P3D
REFRESH-INTERVAL:P3D
CALSCALE:GREGORIAN
BEGIN:VEVENT
DTSTART:20151003T140000Z
DTEND:20151003T210000Z
X-MICROSOFT-CDO-ALLDAYEVENT:FALSE
SUMMARY:Folk School 42nd Fall Festival - CANCELED DUE TO WEATHER
DESCRIPTION:Celebrate the rich heritage of the Appalachians at our 42nd annual Fall Festival\, featuring the craft of 200 craftspeople\, continuous live music and dance on two stages\, craft demonstrations\, food\, kid's activities and much more.
X-ALT-DESC;FMTTYPE=text/html:Celebrate the rich heritage of the Appalachians at our 42nd annual Fall Festival\, featuring the craft of 200 craftspeople\, continuous live music and dance on two stages\, craft demonstrations\, food\, kid&#39\;s activities and much more.
LOCATION:John C. Campbell Folk School One Folk School Road Brasstown\, NC 28902
UID:e.256.40379
SEQUENCE:3
DTSTAMP:20260423T104244Z
URL:https://members.visitblairsvillega.com/events/details/folk-school-42nd-fall-festival-canceled-due-to-weather-10-03-2015-40379
END:VEVENT

END:VCALENDAR
