BEGIN:VCALENDAR
VERSION:2.0
PRODID:-//ChamberMaster//Event Calendar 2.0//EN
METHOD:PUBLISH
X-PUBLISHED-TTL:P3D
REFRESH-INTERVAL:P3D
CALSCALE:GREGORIAN
BEGIN:VEVENT
DTSTART:20150828T230000Z
DTEND:20150829T010000Z
X-MICROSOFT-CDO-ALLDAYEVENT:FALSE
SUMMARY:Folk School Concerts
DESCRIPTION:John C. Campbell Folk School presents Free Admission concerts for your enjoyment.  Tonights performers are:  Rick\, Geoff\, Larry & Milt - talented ETSU students share their love of country music.
X-ALT-DESC;FMTTYPE=text/html:John C. Campbell Folk School presents Free Admission concerts for your enjoyment.&nbsp\; Tonights performers are:&nbsp\; <strong>Rick\, Geoff\, Larry &amp\; Milt </strong>- talented ETSU students share their love of country music.
LOCATION:John C. Campbell Folk School\, Brasstown North Carolina. Concerts are in the Festival Barn through September 4th.
UID:e.256.43931
SEQUENCE:3
DTSTAMP:20260423T151124Z
URL:https://members.visitblairsvillega.com/events/details/folk-school-concerts-08-28-2015-43931
END:VEVENT

END:VCALENDAR
