BEGIN:VCALENDAR
VERSION:2.0
PRODID:-//ChamberMaster//Event Calendar 2.0//EN
METHOD:PUBLISH
X-PUBLISHED-TTL:P3D
REFRESH-INTERVAL:P3D
CALSCALE:GREGORIAN
BEGIN:VEVENT
DTSTART:20150904T230000Z
DTEND:20150905T010000Z
X-MICROSOFT-CDO-ALLDAYEVENT:FALSE
SUMMARY:Folk School Concerts
DESCRIPTION:John C. Campbell Folk School presents Free Admission concerts for your enjoyment.  Tonights performers are:  Appalachian Saint Andrews Pipes & Drums - bagpipes ya'll.
X-ALT-DESC;FMTTYPE=text/html:John C. Campbell Folk School presents Free Admission concerts for your enjoyment.&nbsp\; Tonights performers are:&nbsp\; Appalachian Saint Andrews Pipes &amp\; Drums - bagpipes ya&#39\;ll.
LOCATION:John C. Campbell Fold School in Brasstown North Carolina. Tonights concert is in the Festival Barn.
UID:e.256.43933
SEQUENCE:3
DTSTAMP:20260423T121726Z
URL:https://members.visitblairsvillega.com/events/details/folk-school-concerts-09-04-2015-43933
END:VEVENT

END:VCALENDAR
