BEGIN:VCALENDAR
VERSION:2.0
PRODID:-//ChamberMaster//Event Calendar 2.0//EN
METHOD:PUBLISH
X-PUBLISHED-TTL:P3D
REFRESH-INTERVAL:P3D
CALSCALE:GREGORIAN
BEGIN:VEVENT
DTSTART:20150910T230000Z
DTEND:20150911T010000Z
X-MICROSOFT-CDO-ALLDAYEVENT:FALSE
SUMMARY:Folk School Concerts
DESCRIPTION:John C. Campbell Folk School presents Free Admission concerts for your enjoyment.  Tonights performers are:  Rob Tiger & Lon Eldridge - captivating traditional & original song swap.
X-ALT-DESC;FMTTYPE=text/html:John C. Campbell Folk School presents Free Admission concerts for your enjoyment.&nbsp\; Tonights performers are:&nbsp\;<strong> Rob Tiger &amp\; Lon Eldridge </strong>- captivating traditional &amp\; original song swap.
LOCATION:John C. Campbell Folk School in Brasstown North Carolina. The concert is in the Community Room.
UID:e.256.43937
SEQUENCE:3
DTSTAMP:20260423T121833Z
URL:https://members.visitblairsvillega.com/events/details/folk-school-concerts-09-10-2015-43937
END:VEVENT

END:VCALENDAR
