BEGIN:VCALENDAR
VERSION:2.0
PRODID:-//ChamberMaster//Event Calendar 2.0//EN
METHOD:PUBLISH
X-PUBLISHED-TTL:P3D
REFRESH-INTERVAL:P3D
CALSCALE:GREGORIAN
BEGIN:VEVENT
DTSTART:20151016T230000Z
DTEND:20151017T010000Z
X-MICROSOFT-CDO-ALLDAYEVENT:FALSE
SUMMARY:Folk School Concerts
DESCRIPTION:John C. Campbell Folk School presents Free Admission concerts for your enjoyment.  Tonights performers are:  Molasses Creek - "Prairie Home Companion"\, band winners hail from Ocracoke Island.
X-ALT-DESC;FMTTYPE=text/html:John C. Campbell Folk School presents Free Admission concerts for your enjoyment.&nbsp\; Tonights performers are:&nbsp\;<strong> Molasses Creek </strong>- &quot\;Prairie Home Companion&quot\;\, band winners hail from Ocracoke Island.
LOCATION:John C. Campbell Folk School in Brasstown\, North Carolina. The concert will be in the Community Room.
UID:e.256.43945
SEQUENCE:3
DTSTAMP:20260423T102718Z
URL:https://members.visitblairsvillega.com/events/details/folk-school-concerts-10-16-2015-43945
END:VEVENT

END:VCALENDAR
