BEGIN:VCALENDAR
VERSION:2.0
PRODID:-//ChamberMaster//Event Calendar 2.0//EN
METHOD:PUBLISH
X-PUBLISHED-TTL:P3D
REFRESH-INTERVAL:P3D
CALSCALE:GREGORIAN
BEGIN:VEVENT
DTSTART:20151023T230000Z
DTEND:20151024T010000Z
X-MICROSOFT-CDO-ALLDAYEVENT:FALSE
SUMMARY:Folk School Concerts
DESCRIPTION:John C. Campbell Folk School presents Free Admission concerts for your enjoyment.  Tonights performers are:  Djoukil - Django Reinhardt inspired gypsy jazz\, swing band all the way from France.
X-ALT-DESC;FMTTYPE=text/html:John C. Campbell Folk School presents Free Admission concerts for your enjoyment.&nbsp\; Tonights performers are:&nbsp\;<strong> Djoukil - </strong>Django Reinhardt inspired gypsy jazz\, swing band all the way from France.
LOCATION:John C. Campbell Folk School in Brasstown\, North Carolina. The concert will be in the Community Room.
UID:e.256.43946
SEQUENCE:3
DTSTAMP:20260423T115747Z
URL:https://members.visitblairsvillega.com/events/details/folk-school-concerts-10-23-2015-43946
END:VEVENT

END:VCALENDAR
