BEGIN:VCALENDAR
VERSION:2.0
PRODID:-//ChamberMaster//Event Calendar 2.0//EN
METHOD:PUBLISH
X-PUBLISHED-TTL:P3D
REFRESH-INTERVAL:P3D
CALSCALE:GREGORIAN
BEGIN:VEVENT
DTSTART:20151114T000000Z
DTEND:20151114T020000Z
X-MICROSOFT-CDO-ALLDAYEVENT:FALSE
SUMMARY:Folk School Concerts
DESCRIPTION:John C. Campbell Folk School presents Free Admission concerts for your enjoyment.  Tonights performers are:  Butternut Creek - blues\, old standards and popular songs.
X-ALT-DESC;FMTTYPE=text/html:John C. Campbell Folk School presents Free Admission concerts for your enjoyment.&nbsp\; Tonights performers are:&nbsp\;<strong> Butternut Creek - </strong>blues\, old standards and popular songs.
LOCATION:John C. Campbell Folk School in Brasstown\, North Carolina. The concert will be in the Community Room.
UID:e.256.43947
SEQUENCE:3
DTSTAMP:20260423T085305Z
URL:https://members.visitblairsvillega.com/events/details/folk-school-concerts-11-13-2015-43947
END:VEVENT

END:VCALENDAR
