BEGIN:VCALENDAR
VERSION:2.0
PRODID:-//ChamberMaster//Event Calendar 2.0//EN
METHOD:PUBLISH
X-PUBLISHED-TTL:P3D
REFRESH-INTERVAL:P3D
CALSCALE:GREGORIAN
BEGIN:VEVENT
DTSTART:20140724T233000Z
DTEND:20140725T020000Z
X-MICROSOFT-CDO-ALLDAYEVENT:FALSE
SUMMARY:Folkmoot USA
DESCRIPTION:Folkmoot USA\, The State International Festival of North Carolina\, is a two-week celebration of the world's cultural heritage through folk music and dance. Held each summer across the beautiful mountains of Western North Carolina\, Folkmoot features performers demonstrating cultural heritage through colorful\, authentic\, and original reproduction costumes\, lively dance\, and traditional music. Hours of Operation (Tickets/Info): Monday - Friday 9:30am - 6:30pm\; Saturday 11:00am - 4:00pm Ticket Information: http://www.greatmountainmusic.com/buy-tickets.asp Seating: http://www.greatmountainmusic.com/seating.asp Parking: There is limited parking available at the theater. Overflow parking is available directly below the theater at the Macon County Recreational Park. Shuttle service is available for some shows. Please call ahead to determine if the shuttle is operating for a certain show.
X-ALT-DESC;FMTTYPE=text/html:Folkmoot USA\, The State International Festival of North Carolina\, is a two-week celebration of the world&#39\;s cultural heritage through folk music and dance. Held each summer across the beautiful mountains of Western North Carolina\, Folkmoot features performers demonstrating cultural heritage through colorful\, authentic\, and original reproduction costumes\, lively dance\, and traditional music. Hours of Operation (Tickets/Info): Monday&nbsp\;- Friday 9:30am - 6:30pm\; Saturday 11:00am - 4:00pm Ticket Information: http://www.greatmountainmusic.com/buy-tickets.asp Seating: http://www.greatmountainmusic.com/seating.asp Parking: There is limited parking available at the theater. Overflow parking is available directly below the theater at the Macon County Recreational Park. Shuttle service is available for some shows. Please call ahead to determine if the shuttle is operating for a certain show.
LOCATION:The Smoky Mountain Center for the Performing Arts 1028 Georgia Road Franklin\, NC 28734
UID:e.256.25354
SEQUENCE:3
DTSTAMP:20260424T091655Z
URL:https://members.visitblairsvillega.com/events/details/folkmoot-usa-07-24-2014-25354
END:VEVENT

END:VCALENDAR
