BEGIN:VCALENDAR
VERSION:2.0
PRODID:-//ChamberMaster//Event Calendar 2.0//EN
METHOD:PUBLISH
X-PUBLISHED-TTL:P3D
REFRESH-INTERVAL:P3D
CALSCALE:GREGORIAN
BEGIN:VEVENT
DTSTART:20140918T200000Z
DTEND:20140918T200000Z
X-MICROSOFT-CDO-ALLDAYEVENT:FALSE
SUMMARY:FootGolf Tournament
DESCRIPTION:Union General Hospital presents:\n\nInaugural FootGolf Tournament\n\nThursday\, September 18\, 2014\n\nCheck In @ 4pm\n\nTee Off @ 5pm\n\ndinner & awards following tournament\n\nFootGolf has been played in North America since 2011. It is a combination of both golf and soccer. Players use a #5 soccer ball at a golf course with special holes built on it. Similar to golf\, the goal is to kick the ball in the fewest amounts of times into 21 inch diameter cups. \n\nA low country boil dinner sponsored by Appalachian Home Health will be served after the tournament to the players during the awards ceremony. All participants will receive a goodie bag.\n\nCheck in is at 4:00 p.m. ET with a 5:00 p.m. tee off.\n\nTeam registration and more information about this event are available at www.BAFFootGolf.EventBrite.com or contact Bonnie Phillips at BonniePhillips@BloodAssurance.org or 423-752-8465.\n\n\n\nDinner sponsored by\n\nAppalachian Home Health Care\n\n\n\nbenefiting Blood Assurance Foundation\n\nwww.BloodAssurance.org/contribute
X-ALT-DESC;FMTTYPE=text/html:<strong><em><span style="font-size: 14px\;">Union General Hospital presents:<br />\nInaugural FootGolf Tournament</span><br />\nThursday\, September 18\, 2014<br />\nCheck In @ 4pm<br />\nTee Off @ 5pm<br />\ndinner &amp\; awards following tournament</em></strong><br />\n<font size="2"><font face="Cambria">FootGolf has been played in North America since 2011. It is a combination of both golf and soccer. Players use a #5 soccer ball at a golf course with special holes built on it. Similar to golf\, the goal is to kick the ball in the fewest amounts of times into 21 inch diameter cups. </font></font><br />\n<span style="font-size: 10pt\;"><span style="font-family: cambria\,serif\;">A low country boil dinner sponsored by Appalachian Home Health will be served after the tournament to the players during the awards ceremony. All participants will receive a goodie bag.<br />\nCheck in is at 4:00 p.m. ET with a 5:00 p.m. tee off.<br />\nTeam registration and more information about this event are available at www.BAFFootGolf.EventBrite.com or contact Bonnie Phillips at BonniePhillips@BloodAssurance.org or 423-752-8465.</span></span><br />\n<br />\n<strong>Dinner sponsored by<br />\nAppalachian Home Health Care<br />\n<br />\nbenefiting Blood Assurance Foundation<br />\nwww.BloodAssurance.org/contribute</strong><br />\n<br />\n&nbsp\;
LOCATION:Old Union Golf Course 78 Scores Point Blairsville\, GA
UID:e.256.25413
SEQUENCE:3
DTSTAMP:20260424T063021Z
URL:https://members.visitblairsvillega.com/events/details/footgolf-tournament-09-18-2014-25413
END:VEVENT

END:VCALENDAR
