BEGIN:VCALENDAR
VERSION:2.0
PRODID:-//ChamberMaster//Event Calendar 2.0//EN
METHOD:PUBLISH
X-PUBLISHED-TTL:P3D
REFRESH-INTERVAL:P3D
CALSCALE:GREGORIAN
BEGIN:VEVENT
DTSTART:20170826T140000Z
DTEND:20170826T203000Z
X-MICROSOFT-CDO-ALLDAYEVENT:FALSE
SUMMARY:Found Object and Fiber Bead Necklace Class.
DESCRIPTION:Bring a few of your favorite stringable found objects and we will teach you how to incorporate them\, alpaca\, other fibers & metals including silk\, brass\, copper\, leather and other fun materials into a very unique\, memorable necklace. You will learn to make several types of fiber beads including felted beads using alpaca\, as well as the skills needed to string them using wire wrap and basic jewelry techniques. $99 includes all fiber and stringing materials and some beads. We begin the morning with homemade sweet breads\, coffee or tea. lunch is a warm yummy farm to table cozy affair. There will also be beads and found objects available for purchase for you to add to your one of a kind necklace to make it a true treasure hunt of wonderful shinny and tactile objects. All levels welcome Teacher: Jackie Debell Jackie is the owner of Bella Luna Farm & Boho Girl Designs and Co-owner of Laces of Lore Fiber Art. Class Times: 10:00 am - 3:30 pm
X-ALT-DESC;FMTTYPE=text/html:Bring a few of your favorite stringable found objects and we will teach you how to incorporate them\, alpaca\, other fibers &amp\; metals including silk\, brass\, copper\, leather and other fun materials into a very unique\, memorable necklace. You will learn to make several types of fiber beads including felted beads using alpaca\, as well as the skills needed to string them using wire wrap and basic jewelry techniques. $99 includes all fiber and stringing materials and some beads. We begin the morning with homemade sweet breads\, coffee or tea. lunch is a warm yummy farm to table cozy affair. There will also be beads and found objects available for purchase for you to add to your one of a kind necklace to make it a true treasure hunt of wonderful shinny and tactile objects. All levels welcome Teacher: Jackie Debell Jackie is the owner of Bella Luna Farm &amp\; Boho Girl Designs and Co-owner of Laces of Lore Fiber Art. Class Times: 10:00 am - 3:30 pm
LOCATION:Lasso the Moon Alpaca Farm\, 106 Agape Drive\, Blairsville\, GA 30512
UID:e.256.69260
SEQUENCE:3
DTSTAMP:20260419T194641Z
URL:https://members.visitblairsvillega.com/events/details/found-object-and-fiber-bead-necklace-class-69260
END:VEVENT

END:VCALENDAR
