BEGIN:VCALENDAR
VERSION:2.0
PRODID:-//ChamberMaster//Event Calendar 2.0//EN
METHOD:PUBLISH
X-PUBLISHED-TTL:P3D
REFRESH-INTERVAL:P3D
CALSCALE:GREGORIAN
BEGIN:VEVENT
DTSTART:20150704T180000Z
DTEND:20150704T210000Z
X-MICROSOFT-CDO-ALLDAYEVENT:FALSE
SUMMARY:Fourth of July Celebration at Hightower Creek Vineyards
DESCRIPTION:We are celebrating the Fourth of July with Kaleb Garrett and Steven Phillips performing! They are always so much fun\, very talented\, and of course very entertaining! Music is from 2-5pm. We are open from 12-6 pm. \n\nAdmission is $10.00 and includes a glass of wine or wine Lushie! Bring a picnic to enjoy with any of our wines or try one of our cheese samplers. Children are welcome. Leashed pets are permitted outside.
X-ALT-DESC;FMTTYPE=text/html:<div>We are celebrating the Fourth of July with Kaleb Garrett and Steven Phillips performing! They are always so much fun\, very talented\, and of course very entertaining! Music is&nbsp\;from 2-5pm. We are open&nbsp\;from 12-6 pm.&nbsp\;</div>\n\n<div>Admission is $10.00 and includes a glass of wine or wine Lushie! Bring a picnic to enjoy with any of our wines or try one of our cheese samplers. Children are welcome. Leashed pets are permitted outside.&nbsp\;</div>\n
LOCATION:7150 Canaan Drive Hiawassee\, GA 30546
UID:e.256.40425
SEQUENCE:3
DTSTAMP:20260423T151608Z
URL:https://members.visitblairsvillega.com/events/details/fourth-of-july-celebration-at-hightower-creek-vineyards-07-04-2015-40425
END:VEVENT

END:VCALENDAR
