BEGIN:VCALENDAR
VERSION:2.0
PRODID:-//ChamberMaster//Event Calendar 2.0//EN
METHOD:PUBLISH
X-PUBLISHED-TTL:P3D
REFRESH-INTERVAL:P3D
CALSCALE:GREGORIAN
BEGIN:VEVENT
DTSTART:20170422T140000Z
DTEND:20170422T143000Z
X-MICROSOFT-CDO-ALLDAYEVENT:FALSE
SUMMARY:Free Cattle Ranch Tour
DESCRIPTION:Excite Your Senses... Come Visit Western North Carolina's Premier Cattle Ranch in Hayesville.
X-ALT-DESC;FMTTYPE=text/html:Excite Your Senses... Come Visit Western North Carolina&#39\;s Premier Cattle Ranch in Hayesville. &nbsp\;
LOCATION:1100 Carter Cove Road\, Hayesville\, NC
UID:e.256.70015
SEQUENCE:3
DTSTAMP:20260420T023933Z
URL:https://members.visitblairsvillega.com/events/details/free-cattle-ranch-tour-04-22-2017-70015
END:VEVENT

END:VCALENDAR
