BEGIN:VCALENDAR
VERSION:2.0
PRODID:-//ChamberMaster//Event Calendar 2.0//EN
METHOD:PUBLISH
X-PUBLISHED-TTL:P3D
REFRESH-INTERVAL:P3D
CALSCALE:GREGORIAN
BEGIN:VEVENT
DTSTART:20170512T220000Z
DTEND:20170513T003000Z
X-MICROSOFT-CDO-ALLDAYEVENT:FALSE
SUMMARY:Free Community Dinner & Movie
DESCRIPTION:Free Community Event - Dinner & a Movie\n\nDinner provided by Popie's BBQ\n\nShowing the movie  - Anonymous People\n\nFree Snacks included\n\nPresented by: New Hope Counseling\, UC Anti Drug Coalition & Smart Recovery to promote awareness for substance use & abuse.
X-ALT-DESC;FMTTYPE=text/html:Free Community Event - Dinner &amp\; a Movie<br />\nDinner provided by Popie&#39\;s BBQ<br />\nShowing the movie &nbsp\;- Anonymous People<br />\nFree Snacks included<br />\nPresented by: New Hope Counseling\, UC Anti Drug Coalition &amp\; Smart Recovery to promote awareness for substance use &amp\; abuse.
LOCATION:Downstairs in Union County Courthouse
UID:e.256.73110
SEQUENCE:3
DTSTAMP:20260420T010040Z
URL:https://members.visitblairsvillega.com/events/details/free-community-dinner-movie-73110
END:VEVENT

END:VCALENDAR
