BEGIN:VCALENDAR
VERSION:2.0
PRODID:-//ChamberMaster//Event Calendar 2.0//EN
METHOD:PUBLISH
X-PUBLISHED-TTL:P3D
REFRESH-INTERVAL:P3D
CALSCALE:GREGORIAN
BEGIN:VEVENT
DTSTART:20160916T213000Z
DTEND:20160917T003000Z
X-MICROSOFT-CDO-ALLDAYEVENT:FALSE
SUMMARY:FREE Movie Night & Social Gathering of Pedal People
DESCRIPTION:Featured Movie: Freedom Riders\n\nBring your own beverage of choice and folding chairs. Snacks provided. Order dinner from Copeland's (next door) or have pizza delivered. \n\nWe'll start with a social hour. During that time we will be showing a 2005 segment of the Tour de Georgia filmed here in Union County. Then the featured documentary Freedom Riders starts at 6:30pm. Freedom Riders is a true epic story of a few mountain bikers who went from building illegal trails to what we know now as legal sustainable trail building. It also highlights the evolution of mountain biking.
X-ALT-DESC;FMTTYPE=text/html:Featured Movie: Freedom Riders<br />\nBring your own beverage of choice and folding chairs. Snacks provided. Order dinner from Copeland&#39\;s (next door) or have pizza delivered.&nbsp\;<br />\nWe&#39\;ll start with a social hour. During that time we will be showing a 2005 segment of the Tour de Georgia filmed here in Union County. Then the featured documentary Freedom Riders starts at 6:30pm. Freedom Riders is a true epic story of a few mountain bikers who went from building illegal trails to what we know now as legal sustainable trail building. It also highlights the evolution of mountain biking.
LOCATION:Blairsville Bikes & Hikes 49 Blue Ridge St.
UID:e.256.58118
SEQUENCE:3
DTSTAMP:20260420T165452Z
URL:https://members.visitblairsvillega.com/events/details/free-movie-night-social-gathering-of-pedal-people-58118
END:VEVENT

END:VCALENDAR
