BEGIN:VCALENDAR
VERSION:2.0
PRODID:-//ChamberMaster//Event Calendar 2.0//EN
METHOD:PUBLISH
X-PUBLISHED-TTL:P3D
REFRESH-INTERVAL:P3D
CALSCALE:GREGORIAN
BEGIN:VEVENT
DTSTART;VALUE=DATE:20140823
DTEND;VALUE=DATE:20140824
TRANSP:TRANSPARENT
X-MICROSOFT-CDO-ALLDAYEVENT:TRUE
SUMMARY:Free Music on the Hayesville Square
DESCRIPTION:FREE music\, outdoor concerts. Tonight\, Friday Aug. 22nd is the phenomenal songstress\, Lee Holland at the Hayesville NC Square. 7-9pm.\n\nThen Sat. the 23rd\, catch the region's favorite Big Band\, Sentimental Journey at the Hiawassee Gazebo. 6:30 to 8:30. Just bring your own chair!
X-ALT-DESC;FMTTYPE=text/html:FREE music\, outdoor concerts. Tonight\, Friday Aug. 22nd is the phenomenal songstress\, Lee Holland at the Hayesville NC Square. 7-9pm.<br />\nThen Sat. the 23rd\, catch the region&#39\;s favorite Big Band\, Sentimental Journey at the Hiawassee Gazebo. 6:30 to 8:30. Just bring your own chair!
LOCATION:Hayesville Square Hayesville\, NC
UID:e.256.26267
SEQUENCE:3
DTSTAMP:20260424T073947Z
URL:https://members.visitblairsvillega.com/events/details/free-music-on-the-hayesville-square-08-23-2014-26267
END:VEVENT

END:VCALENDAR
