BEGIN:VCALENDAR
VERSION:2.0
PRODID:-//ChamberMaster//Event Calendar 2.0//EN
METHOD:PUBLISH
X-PUBLISHED-TTL:P3D
REFRESH-INTERVAL:P3D
CALSCALE:GREGORIAN
BEGIN:VEVENT
DTSTART:20141213T233000Z
DTEND:20141214T020000Z
X-MICROSOFT-CDO-ALLDAYEVENT:FALSE
SUMMARY:Free Outdoor Christmas Movie
DESCRIPTION:Come join us for a free\, family friendly movie under the stars! B & T Trading Post is hosting a Christmas movie for its last movie night of the season. We will be playing a family friendly Christmas movie that everyone can enjoy. There will also be a bon fire and we will provide concessions. All you need to bring is a blanket or chairs and some family &/or friends. To find out what movie we will be playing (or to make a suggestion)\, follow us on Facebook or call us at the store during business hours. We will be posting it on our Facebook page so be sure and join he conversation! Regular store hours are Monday - Saturday\, 9am-6pm and the phone number is 706.379.2123. We look forward to seeing you soon!
X-ALT-DESC;FMTTYPE=text/html:Come join us for a free\, family friendly movie under the stars! B &amp\; T Trading Post is hosting a Christmas movie for its last movie night of the season. We will be playing a family friendly Christmas movie that everyone can enjoy. There will also be a bon fire and we will provide concessions. All you need to bring is a blanket or chairs and some family &amp\;/or friends. To find out what movie we will be playing (or to make a suggestion)\, follow us on Facebook or call us at the store during business hours. We will be posting it on our Facebook page so be sure and join he conversation! Regular store hours are Monday - Saturday\, 9am-6pm and the phone number is 706.379.2123. We look forward to seeing you soon!
LOCATION:B & T Trading Post 4903 Hwy 515 East Blairsville\, GA 30512
UID:e.256.27430
SEQUENCE:3
DTSTAMP:20260424T020731Z
URL:https://members.visitblairsvillega.com/events/details/free-outdoor-christmas-movie-12-13-2014-27430
END:VEVENT

END:VCALENDAR
