BEGIN:VCALENDAR
VERSION:2.0
PRODID:-//ChamberMaster//Event Calendar 2.0//EN
METHOD:PUBLISH
X-PUBLISHED-TTL:P3D
REFRESH-INTERVAL:P3D
CALSCALE:GREGORIAN
BEGIN:VEVENT
DTSTART:20141004T233000Z
DTEND:20141005T020000Z
X-MICROSOFT-CDO-ALLDAYEVENT:FALSE
SUMMARY:Free Outdoor Movie Night
DESCRIPTION:Come join us for a free\, family friendly movie under the stars! B & T Trading Post is hosting an outdoor movie night every other Saturday night through the end of the year. We will be playing a variety of G or PG rated movies that everyone can enjoy. There will also be a bon fire and we will provide concessions. All you need to bring is a blanket or chairs and some family &/or friends. To find out what movie we are playing each week\, simply call the store during business hours and ask us! We will also be posting it on our Facebook page so follow us there and join he conversation! Regular store hours are Monday - Saturday\, 9am-6pm and the phone number is 706.379.2123. We look forward to seeing you soon!
X-ALT-DESC;FMTTYPE=text/html:Come join us for a free\, family friendly movie under the stars! B &amp\; T Trading Post is hosting an outdoor movie night every other Saturday night through the end of the year. We will be playing a variety of G or PG rated movies that everyone can enjoy. There will also be a bon fire and we will provide concessions. All you need to bring is a blanket or chairs and some family &amp\;/or friends. To find out what movie we are playing each week\, simply call the store during business hours and ask us! We will also be posting it on our Facebook page so follow us there and join he conversation! Regular store hours are Monday - Saturday\, 9am-6pm and the phone number is 706.379.2123. We look forward to seeing you soon!
LOCATION:B & T Trading Post 4903 Hwy 515 East Blairsville\, GA 30512
UID:e.256.27415
SEQUENCE:3
DTSTAMP:20260424T045640Z
URL:https://members.visitblairsvillega.com/events/details/free-outdoor-movie-night-10-04-2014-27415
END:VEVENT

END:VCALENDAR
