BEGIN:VCALENDAR
VERSION:2.0
PRODID:-//ChamberMaster//Event Calendar 2.0//EN
METHOD:PUBLISH
X-PUBLISHED-TTL:P3D
REFRESH-INTERVAL:P3D
CALSCALE:GREGORIAN
BEGIN:VEVENT
DTSTART:20171207T220000Z
DTEND:20171208T010000Z
X-MICROSOFT-CDO-ALLDAYEVENT:FALSE
SUMMARY:Free Pictures with Santa and Mrs. Claus!
DESCRIPTION:Want pics to send to family?  No charge for these digital pics with Santa & Mrs. Claus!  Four of Santa's elves will be there to help this year!  Refreshments available.  Everyone welcome!
X-ALT-DESC;FMTTYPE=text/html:Want pics to send to family?&nbsp\; No charge for these digital pics with Santa &amp\; Mrs. Claus!&nbsp\;&nbsp\;Four of Santa&#39\;s elves will be there to help this year!&nbsp\; Refreshments available.&nbsp\; Everyone welcome!
LOCATION:Clay County Care Center 86 Valley Hideaway Drive Hayesville\, NC 28904 828.389.9941
UID:e.256.77031
SEQUENCE:3
DTSTAMP:20260419T141804Z
URL:https://members.visitblairsvillega.com/events/details/free-pictures-with-santa-and-mrs-claus-77031
END:VEVENT

END:VCALENDAR
