BEGIN:VCALENDAR
VERSION:2.0
PRODID:-//ChamberMaster//Event Calendar 2.0//EN
METHOD:PUBLISH
X-PUBLISHED-TTL:P3D
REFRESH-INTERVAL:P3D
CALSCALE:GREGORIAN
BEGIN:VEVENT
DTSTART:20171216T160000Z
DTEND:20171216T210000Z
X-MICROSOFT-CDO-ALLDAYEVENT:FALSE
SUMMARY:Free Pictures with Santa & Cocoa and Cookies
DESCRIPTION:Bring your kids AND your pets and get pictures with Santa Clause!\n\nWe will have FREE Cocoa & Cookies for the kids\, and of course\, the pets!  \n\nHe will be visiting the store 11 am - 4 pm\, before he must head back off to the North Pole!\n\nBring your own cameras/phones for pictures. \n\nYou know we will have the best vintage backdrop to make the sweetest photos!\n\nAll free and fun for the whole family!
X-ALT-DESC;FMTTYPE=text/html:<span style="background-color:rgb(255\, 255\, 255)\; color:rgb(75\, 79\, 86)\; font-family:helvetica\,arial\,sans-serif\; font-size:14px">Bring your kids AND your pets and get pictures with Santa Clause!</span><br />\n<span style="background-color:rgb(255\, 255\, 255)\; color:rgb(75\, 79\, 86)\; font-family:helvetica\,arial\,sans-serif\; font-size:14px">We will have FREE Cocoa &amp\; Cookies for the kids\, and of course\, the pets! &hearts\;</span><br />\n<span style="background-color:rgb(255\, 255\, 255)\; color:rgb(75\, 79\, 86)\; font-family:helvetica\,arial\,sans-serif\; font-size:14px">He will be visiting the store 11 am - 4 pm\, before he must head back off to the North Pole!</span><br />\n<span style="background-color:rgb(255\, 255\, 255)\; color:rgb(75\, 79\, 86)\; font-family:helvetica\,arial\,sans-serif\; font-size:14px">Bring your own cameras/phones for pictures.&nbsp\;</span><br />\n<span style="background-color:rgb(255\, 255\, 255)\; color:rgb(75\, 79\, 86)\; font-family:helvetica\,arial\,sans-serif\; font-size:14px">You know we will have the best vintage backdrop to make the sweetest photos!</span><br />\n<span style="background-color:rgb(255\, 255\, 255)\; color:rgb(75\, 79\, 86)\; font-family:helvetica\,arial\,sans-serif\; font-size:14px">All free and fun for the whole family! &hearts\;</span>
LOCATION:Black & White Antiques & Market (3.5 miles north on Murphy Hwy) 23 Dyer Rdg Blairsville\, GA 30512
UID:e.256.77089
SEQUENCE:3
DTSTAMP:20260419T141916Z
URL:https://members.visitblairsvillega.com/events/details/free-pictures-with-santa-cocoa-and-cookies-77089
END:VEVENT

END:VCALENDAR
