BEGIN:VCALENDAR
VERSION:2.0
PRODID:-//ChamberMaster//Event Calendar 2.0//EN
METHOD:PUBLISH
X-PUBLISHED-TTL:P3D
REFRESH-INTERVAL:P3D
CALSCALE:GREGORIAN
BEGIN:VEVENT
DTSTART:20150320T140000Z
DTEND:20150320T160000Z
X-MICROSOFT-CDO-ALLDAYEVENT:FALSE
SUMMARY:Free Seminar: Backyard Beekeeping
DESCRIPTION:Have you ever wanted to have 30\,000 of your own furry pets? How about if those pets pollinate your watermelons and make honey? That's right\; this month's seminar is on Backyard Beekeeping! If you have always wondered how to get started in keeping honeybees\, this seminar is for you. Our speaker\, Jim Quick is a Certified Master Beekeeper and a University of Georgia Entomology Research Professional. Jim will talk about on supplies needed\, techniques for working bees\, and problems to expect.
X-ALT-DESC;FMTTYPE=text/html:Have you ever wanted to have 30\,000 of your own furry pets? How about if those pets pollinate your watermelons and make honey? That&#39\;s right\; this month&#39\;s seminar is on Backyard Beekeeping! If you have always wondered how to get started in keeping honeybees\, this seminar is for you. Our speaker\, Jim Quick is a Certified Master Beekeeper and a University of Georgia Entomology Research Professional. Jim will talk about on supplies needed\, techniques for working bees\, and problems to expect.
LOCATION:The Georgia Mountain Research & Education Center\, 3 miles south of the Blairsville Square\, on the east side of Hwy 19/129.
UID:e.256.36905
SEQUENCE:3
DTSTAMP:20260423T211755Z
URL:https://members.visitblairsvillega.com/events/details/free-seminar-backyard-beekeeping-03-20-2015-36905
END:VEVENT

END:VCALENDAR
