BEGIN:VCALENDAR
VERSION:2.0
PRODID:-//ChamberMaster//Event Calendar 2.0//EN
METHOD:PUBLISH
X-PUBLISHED-TTL:P3D
REFRESH-INTERVAL:P3D
CALSCALE:GREGORIAN
BEGIN:VEVENT
DTSTART:20141031T140000Z
DTEND:20141031T160000Z
X-MICROSOFT-CDO-ALLDAYEVENT:FALSE
SUMMARY:Free Seminar: Cool Season Gardening
DESCRIPTION:There ARE vegetables that can thrive in shorter days and colder temperatures. Our presenter\, Ms. Amanda Tedrow\, will teach us to work WITH nature to cultivate vegetables during the cooler months. She will discuss appropriate varieties\, planting guidelines and proper timing for extended harvest. Ms. Amanda Tedrow is the current Athens-Clarke County Agriculture and Natural Resources Extension Agent.
X-ALT-DESC;FMTTYPE=text/html:There ARE vegetables that can thrive in shorter days and colder temperatures. Our presenter\, Ms. Amanda Tedrow\, will teach us to work WITH nature to cultivate vegetables during the cooler months. She will discuss appropriate varieties\, planting guidelines and proper timing for extended harvest. Ms. Amanda Tedrow is the current Athens-Clarke County Agriculture and Natural Resources Extension Agent.
LOCATION:The Georgia Mountain Research & Education Center\, 3 miles south of the Blairsville Square\, on the east side of Hwy 19/129.
UID:e.256.27662
SEQUENCE:3
DTSTAMP:20260424T045628Z
URL:https://members.visitblairsvillega.com/events/details/free-seminar-cool-season-gardening-10-31-2014-27662
END:VEVENT

END:VCALENDAR
