BEGIN:VCALENDAR
VERSION:2.0
PRODID:-//ChamberMaster//Event Calendar 2.0//EN
METHOD:PUBLISH
X-PUBLISHED-TTL:P3D
REFRESH-INTERVAL:P3D
CALSCALE:GREGORIAN
BEGIN:VEVENT
DTSTART:20170425T223000Z
DTEND:20170426T003000Z
X-MICROSOFT-CDO-ALLDAYEVENT:FALSE
SUMMARY:Free Seminar - Decision making for health\, wealth & retirement planning
DESCRIPTION:Do you understand Tax deferral & Rule of 72?\n	Will you have enough money when you retire?\n	ROTH vs. Pre-Taxed IRA\n	How will taxes reduce your retirement?\n	Does your life insurance provide tax free benefits prior to death?\n	How to maximize your pension for you and your spouse \n	Long term care\, leaving assets to your heirs\, and Rule 219\n	College Tuition & Education 529\n	Do you know your best Social Security strategies?\n	Understanding Veterans Aid & Attendance income benefit\n	Telehealth:  Employee & Individual Benefits\n\n \n\n \n\nFind out the answers to these questions and more!\n\n \n\nTo RSVP for the Workshop call\, text or email:\n\nKim Poteet Madren\n\n(706) 897-4705\n\nKimM@southernfc.com\n\n \n\n*Dress for this workshop will be casual.
X-ALT-DESC;FMTTYPE=text/html:&nbsp\;\n<ul>\n	<li><strong><span style="font-family:tahoma\,sans-serif">Do you understand Tax deferral &amp\; Rule of 72?</span></strong></li>\n	<li><strong><span style="font-family:tahoma\,sans-serif">Will you have enough money when you retire?</span></strong></li>\n	<li><strong><span style="font-family:tahoma\,sans-serif">ROTH vs. Pre-Taxed IRA</span></strong></li>\n	<li><strong><span style="font-family:tahoma\,sans-serif">How will taxes reduce your retirement?</span></strong></li>\n	<li><strong><span style="font-family:tahoma\,sans-serif">Does your life insurance provide tax free benefits prior to death?</span></strong></li>\n	<li><strong><span style="font-family:tahoma\,sans-serif">How to maximize your pension for you and your spouse </span></strong></li>\n	<li><strong><span style="font-family:tahoma\,sans-serif">Long term care\, leaving assets to your heirs\, and Rule 219</span></strong></li>\n	<li><strong><span style="font-family:tahoma\,sans-serif">College Tuition &amp\; Education 529</span></strong></li>\n	<li><strong><span style="font-family:tahoma\,sans-serif">Do you know your best Social Security strategies?</span></strong></li>\n	<li><strong><span style="font-family:tahoma\,sans-serif">Understanding Veterans Aid &amp\; Attendance income benefit</span></strong></li>\n	<li><strong><span style="font-family:tahoma\,sans-serif">Telehealth: &nbsp\;Employee &amp\; Individual Benefits</span></strong></li>\n</ul>\n&nbsp\;<br />\n&nbsp\;<br />\n<strong><em><span style="font-family:tahoma\,sans-serif"><span style="font-size:16.0pt">Find out the answers to these questions and more!</span></span></em></strong><br />\n&nbsp\;<br />\n<strong><em><u><span style="font-family:tahoma\,sans-serif"><span style="font-size:16.0pt">To RSVP for the Workshop call\, text or email:</span></span></u></em></strong><br />\n<strong><span style="font-family:tahoma\,sans-serif"><span style="font-size:16.0pt">Kim Poteet Madren</span></span></strong><br />\n<span style="font-family:tahoma\,sans-serif"><span style="font-size:16.0pt">(706) 897-4705</span></span><br />\n<span style="font-family:tahoma\,sans-serif"><span style="font-size:16.0pt">KimM@southernfc.com</span></span><br />\n&nbsp\;<br />\n<em><span style="font-family:tahoma\,sans-serif">*Dress for this workshop will be casual.&nbsp\;</span></em>
LOCATION:Brother's at Willow Ranch 6223 US Highway 76. Young Harris\, GA 30582 (706) 379-1272. brothersatwillowranch.com
UID:e.256.68415
SEQUENCE:3
DTSTAMP:20260420T024321Z
URL:https://members.visitblairsvillega.com/events/details/free-seminar-decision-making-for-health-wealth-retirement-planning-68415
END:VEVENT

END:VCALENDAR
