BEGIN:VCALENDAR
VERSION:2.0
PRODID:-//ChamberMaster//Event Calendar 2.0//EN
METHOD:PUBLISH
X-PUBLISHED-TTL:P3D
REFRESH-INTERVAL:P3D
CALSCALE:GREGORIAN
BEGIN:VEVENT
DTSTART:20140328T140000Z
DTEND:20140328T160000Z
X-MICROSOFT-CDO-ALLDAYEVENT:FALSE
SUMMARY:Free Seminar: Organic Vegetable Gardening
DESCRIPTION:Our presenter\, Dr. Elizabeth Little\, will help us understand the importance of biodiversity\, both above ground and in the soil\, in helping to interrupt insect and disease life cycles. She will discuss how to use vegetable production practices\, such as composting\, crop rotation and cover crops\, to promote plant health and lessen problems. So if you are considering growing your own vegetables organically\, come to this seminar to learn how to put sustainable practices to work. Dr. Elizabeth Little is a University of Georgia Assistant Professor of Plant Pathology. She participates in the UGA sustainable food systems faculty and the organic certificate program\, where she teaches organic disease management. As an Extension specialist\, she has developed a community outreach program on sustainable and organic integrated pest management approaches for home landscapes\, and for home\, community and small farm production of fruits and vegetables.
X-ALT-DESC;FMTTYPE=text/html:Our presenter\, Dr. Elizabeth Little\, will help us understand the importance of biodiversity\, both above ground and in the soil\, in helping to interrupt insect and disease life cycles. She will discuss how to use vegetable production practices\, such as composting\, crop rotation and cover crops\, to promote plant health and lessen problems. So if you are considering growing your own vegetables organically\, come to this seminar to learn how to put sustainable practices to work. Dr. Elizabeth Little is a University of Georgia Assistant Professor of Plant Pathology. She participates in the UGA sustainable food systems faculty and the organic certificate program\, where she teaches organic disease management. As an Extension specialist\, she has developed a community outreach program on sustainable and organic integrated pest management approaches for home landscapes\, and for home\, community and small farm production of fruits and vegetables.
LOCATION:The Georgia Mountain Research & Education Center\, 3 miles south of the Blairsville Square\, on the east side of Hwy 19/129.
UID:e.256.23440
SEQUENCE:3
DTSTAMP:20260424T153150Z
URL:https://members.visitblairsvillega.com/events/details/free-seminar-organic-vegetable-gardening-03-28-2014-23440
END:VEVENT

END:VCALENDAR
