BEGIN:VCALENDAR
VERSION:2.0
PRODID:-//ChamberMaster//Event Calendar 2.0//EN
METHOD:PUBLISH
X-PUBLISHED-TTL:P3D
REFRESH-INTERVAL:P3D
CALSCALE:GREGORIAN
BEGIN:VEVENT
DTSTART:20161014T140000Z
DTEND:20161014T160000Z
X-MICROSOFT-CDO-ALLDAYEVENT:FALSE
SUMMARY:Free Seminar: Southern Living Plants
DESCRIPTION:Learn about the re-blooming Encore Azaleas that love the sun\, Rhododendrons\, Camellias and a full palate of other cold hardy shrubs in the Southern Living Plant Collection. Several of these plants are growing on site\, so participants will have the opportunity to see how they perform here at the Georgia Mountain Research & Education Center.
X-ALT-DESC;FMTTYPE=text/html:Learn about the re-blooming Encore Azaleas that love the sun\, Rhododendrons\, Camellias and a full palate of other cold hardy shrubs in the Southern Living Plant Collection. Several of these plants are growing on site\, so participants will have the opportunity to see how they perform here at the <span style="color: rgb(51\, 51\, 51)\; font-family: sans-serif\, Arial\, Verdana\, &quot\;Trebuchet MS&quot\;\; font-size: 13px\; line-height: 20.8px\; background-color: rgb(255\, 255\, 255)\;">Georgia Mountain Research &amp\; Education </span><span style="color: rgb(51\, 51\, 51)\; font-family: sans-serif\, Arial\, Verdana\, &quot\;Trebuchet MS&quot\;\; font-size: 13px\; line-height: 20.8px\; background-color: rgb(255\, 255\, 255)\;">Center</span>.
LOCATION:The Georgia Mountain Research & Education Center\, 3 miles south of the Blairsville Square\, on the east side of Hwy 19/129.
UID:e.256.55598
SEQUENCE:3
DTSTAMP:20260420T131438Z
URL:https://members.visitblairsvillega.com/events/details/free-seminar-southern-living-plants-10-14-2016-55598
END:VEVENT

END:VCALENDAR
