BEGIN:VCALENDAR
VERSION:2.0
PRODID:-//ChamberMaster//Event Calendar 2.0//EN
METHOD:PUBLISH
X-PUBLISHED-TTL:P3D
REFRESH-INTERVAL:P3D
CALSCALE:GREGORIAN
BEGIN:VEVENT
DTSTART:20160430T150000Z
DTEND:20160430T190000Z
X-MICROSOFT-CDO-ALLDAYEVENT:FALSE
SUMMARY:Freedom Forum
DESCRIPTION:Don't miss the Freedom Forum and Cookout! The UCGOP and Union/Towns County Tea Party are co-sponsoring this event to give North Georgia voters a chance to meet and hear directly from candidates running for our State Senate\, District 51\; U.S. House\, District 9\; and the U.S. Senate. Local candidates are also invited to attend. See you there!
X-ALT-DESC;FMTTYPE=text/html:Don&#39\;t miss the Freedom Forum and Cookout! The UCGOP and Union/Towns County Tea Party are co-sponsoring this event to give North Georgia voters a chance to meet and hear directly from candidates running for our State Senate\, District 51\; U.S. House\, District 9\; and the U.S. Senate. Local candidates are also invited to attend. See you there!
LOCATION:Pat Haralson Memorial Civic Center 185 Wellborn St. Blairsville\, GA 30512
UID:e.256.50966
SEQUENCE:3
DTSTAMP:20260421T001956Z
URL:https://members.visitblairsvillega.com/events/details/freedom-forum-04-30-2016-50966
END:VEVENT

END:VCALENDAR
