BEGIN:VCALENDAR
VERSION:2.0
PRODID:-//ChamberMaster//Event Calendar 2.0//EN
METHOD:PUBLISH
X-PUBLISHED-TTL:P3D
REFRESH-INTERVAL:P3D
CALSCALE:GREGORIAN
BEGIN:VEVENT
DTSTART:20150403T220000Z
DTEND:20150404T010000Z
X-MICROSOFT-CDO-ALLDAYEVENT:FALSE
SUMMARY:Friday After Hours at Hightower Creek Vineyards
DESCRIPTION:This is a new event at Hightower Creek Vineyards! The first Friday of every month we will be open until 9pm and will have live music from 6-9pm! $10.00 admission includes a glass of wine or wine tasting! Friday\, April 3rd 2015 we will be having Mike Brookshire performing! Come wind down your week with us with live music and wine on our beautiful covered deck!
X-ALT-DESC;FMTTYPE=text/html:This is a new event at Hightower Creek Vineyards! The first Friday of every month we will be open until 9pm and will have live music from 6-9pm! $10.00 admission includes a glass of wine or wine tasting! Friday\, April 3rd 2015 we will be having Mike Brookshire performing! Come wind down your week with us with live music and wine on our beautiful covered deck!
LOCATION:7150 Canaan Drive Hiawassee\, GA 30546
UID:e.256.37900
SEQUENCE:3
DTSTAMP:20260423T200359Z
URL:https://members.visitblairsvillega.com/events/details/friday-after-hours-at-hightower-creek-vineyards-04-03-2015-37900
END:VEVENT

END:VCALENDAR
