BEGIN:VCALENDAR
VERSION:2.0
PRODID:-//ChamberMaster//Event Calendar 2.0//EN
METHOD:PUBLISH
X-PUBLISHED-TTL:P3D
REFRESH-INTERVAL:P3D
CALSCALE:GREGORIAN
BEGIN:VEVENT
DTSTART:20150605T220000Z
DTEND:20150606T010000Z
X-MICROSOFT-CDO-ALLDAYEVENT:FALSE
SUMMARY:Friday After Hours at Hightower Creek Vineyards
DESCRIPTION:Our Friday After Hours is back and this month we are featuring live music by Sheriff\, Chris Clinton and his wife Crystal! The first Friday of every month we will be staying open until 9pm and will have live music! Music is from 6-9pm. Admission is $10.00 and includes a glass of wine or wine tasting! Outside food is permitted to enjoy with any of our wines. No outside alcoholic beverages. Children are welcomed as well as leashed pets outside! Come and wind down your week with us at Hightower Creek Vineyards!
X-ALT-DESC;FMTTYPE=text/html:Our Friday After Hours is back and this month we are featuring live music by Sheriff\, Chris Clinton and his wife Crystal! The first Friday of every month we will be staying open until 9pm and will have live music! Music is from 6-9pm. Admission is $10.00 and includes a glass of wine or wine tasting! Outside food is permitted to enjoy with any of our wines. No outside alcoholic beverages. Children are welcomed as well as leashed pets outside! Come and wind down your week with us at Hightower Creek Vineyards!
LOCATION:7150 Canaan Drive Hiawassee\, GA 30546
UID:e.256.40262
SEQUENCE:3
DTSTAMP:20260423T182420Z
URL:https://members.visitblairsvillega.com/events/details/friday-after-hours-at-hightower-creek-vineyards-06-05-2015-40262
END:VEVENT

END:VCALENDAR
