BEGIN:VCALENDAR
VERSION:2.0
PRODID:-//ChamberMaster//Event Calendar 2.0//EN
METHOD:PUBLISH
X-PUBLISHED-TTL:P3D
REFRESH-INTERVAL:P3D
CALSCALE:GREGORIAN
BEGIN:VEVENT
DTSTART:20160520T230000Z
DTEND:20160521T000000Z
X-MICROSOFT-CDO-ALLDAYEVENT:FALSE
SUMMARY:Friday Concert Series at the Old Courthouse
DESCRIPTION:Don Byers (Americana\, singer-songwriter) will perform Friday\, May 20th at 7:00 pm at the Old Courthouse on the square in downtown Blairsville.
X-ALT-DESC;FMTTYPE=text/html:<div>&nbsp\;<span style="color: black\; font-family: &quot\;Calibri&quot\;\,&quot\;sans-serif&quot\;\; font-size: 12pt\; mso-fareast-font-family: Calibri\; mso-fareast-theme-font: minor-latin\; mso-bidi-font-family: &quot\;Times New Roman&quot\;\; mso-ansi-language: EN-US\; mso-fareast-language: EN-US\; mso-bidi-language: AR-SA\;">Don Byers (Americana\, singer-songwriter)</span> will perform Friday\,&nbsp\;May 20th at 7:00 pm at the Old Courthouse on the square in downtown Blairsville.</div>\n
LOCATION:Old Historic Courthouse 1 Town Square\, Blairsville GA
UID:e.256.51030
SEQUENCE:3
DTSTAMP:20260421T002733Z
URL:https://members.visitblairsvillega.com/events/details/friday-concert-series-at-the-old-courthouse-05-20-2016-51030
END:VEVENT

END:VCALENDAR
