BEGIN:VCALENDAR
VERSION:2.0
PRODID:-//ChamberMaster//Event Calendar 2.0//EN
METHOD:PUBLISH
X-PUBLISHED-TTL:P3D
REFRESH-INTERVAL:P3D
CALSCALE:GREGORIAN
BEGIN:VEVENT
DTSTART:20160603T230000Z
DTEND:20160604T000000Z
X-MICROSOFT-CDO-ALLDAYEVENT:FALSE
SUMMARY:Friday Concert Series at the Old Courthouse
DESCRIPTION:Peach Mountain Gang (Bluegrass\, folk music) will perform Friday\,June 3rd at 7:00 pm at the Old Courthouse on the square in downtown Blairsville.
X-ALT-DESC;FMTTYPE=text/html:<div>&nbsp\;<span style="color: black\; font-family: &quot\;Calibri&quot\;\,&quot\;sans-serif&quot\;\;"><font size="3">Peach Mountain Gang&nbsp\;(Bluegrass\, folk music)</font></span> will perform Friday\,June 3rd at 7:00 pm at the Old Courthouse on the square in downtown Blairsville.</div>\n
LOCATION:Old Historic Courthouse 1 Town Square\, Blairsville GA
UID:e.256.51032
SEQUENCE:3
DTSTAMP:20260420T204017Z
URL:https://members.visitblairsvillega.com/events/details/friday-concert-series-at-the-old-courthouse-06-03-2016-51032
END:VEVENT

END:VCALENDAR
