BEGIN:VCALENDAR
VERSION:2.0
PRODID:-//ChamberMaster//Event Calendar 2.0//EN
METHOD:PUBLISH
X-PUBLISHED-TTL:P3D
REFRESH-INTERVAL:P3D
CALSCALE:GREGORIAN
BEGIN:VEVENT
DTSTART:20160610T230000Z
DTEND:20160611T000000Z
X-MICROSOFT-CDO-ALLDAYEVENT:FALSE
SUMMARY:Friday Concert Series at the Old Courthouse
DESCRIPTION:Bob Valentine\, Scottish comedian/storyteller and Colin Grant-Adams\, Scottish folk singer will perform Friday\, June 10th at 7:00 pm at the Old Courthouse on the square in downtown Blairsville.
X-ALT-DESC;FMTTYPE=text/html:<div><span style="color: black\; font-family: &quot\;Calibri&quot\;\,&quot\;sans-serif&quot\;\;"><font size="3">Bob Valentine\, Scottish comedian/storyteller and Colin Grant-Adams\, Scottish folk singer </font></span>will perform Friday\,&nbsp\;June 10th at 7:00 pm at the Old Courthouse on the square in downtown Blairsville.</div>\n
LOCATION:Old Historic Courthouse 1 Town Square\, Blairsville GA
UID:e.256.51033
SEQUENCE:3
DTSTAMP:20260420T204017Z
URL:https://members.visitblairsvillega.com/events/details/friday-concert-series-at-the-old-courthouse-06-10-2016-51033
END:VEVENT

END:VCALENDAR
