BEGIN:VCALENDAR
VERSION:2.0
PRODID:-//ChamberMaster//Event Calendar 2.0//EN
METHOD:PUBLISH
X-PUBLISHED-TTL:P3D
REFRESH-INTERVAL:P3D
CALSCALE:GREGORIAN
BEGIN:VEVENT
DTSTART:20160624T230000Z
DTEND:20160625T000000Z
X-MICROSOFT-CDO-ALLDAYEVENT:FALSE
SUMMARY:Friday Concert Series at the Old Courthouse
DESCRIPTION:Shady Grove Bluegrass Band (Bluegrass gospel from Shady Grove Methodist Church) will perform Friday\, June 24th at 7:00 pm at the Old Courthouse on the square in downtown Blairsville.
X-ALT-DESC;FMTTYPE=text/html:<div>&nbsp\;<span style="color: black\; font-family: &quot\;Calibri&quot\;\,&quot\;sans-serif&quot\;\; font-size: 12pt\; mso-fareast-font-family: Calibri\; mso-fareast-theme-font: minor-latin\; mso-bidi-font-family: &quot\;Times New Roman&quot\;\; mso-ansi-language: EN-US\; mso-fareast-language: EN-US\; mso-bidi-language: AR-SA\;">Shady Grove Bluegrass Band&nbsp\;(Bluegrass gospel from Shady Grove Methodist </span><span style="color: black\; font-family: &quot\;Calibri&quot\;\,&quot\;sans-serif&quot\;\; font-size: 12pt\; mso-fareast-font-family: Calibri\; mso-fareast-theme-font: minor-latin\; mso-bidi-font-family: &quot\;Times New Roman&quot\;\; mso-ansi-language: EN-US\; mso-fareast-language: EN-US\; mso-bidi-language: AR-SA\;">Church) </span>will perform Friday\,&nbsp\;June 24th at 7:00 pm at the Old Courthouse on the square in downtown Blairsville.</div>\n
LOCATION:Old Historic Courthouse 1 Town Square\, Blairsville GA
UID:e.256.51035
SEQUENCE:3
DTSTAMP:20260420T204017Z
URL:https://members.visitblairsvillega.com/events/details/friday-concert-series-at-the-old-courthouse-06-24-2016-51035
END:VEVENT

END:VCALENDAR
