BEGIN:VCALENDAR
VERSION:2.0
PRODID:-//ChamberMaster//Event Calendar 2.0//EN
METHOD:PUBLISH
X-PUBLISHED-TTL:P3D
REFRESH-INTERVAL:P3D
CALSCALE:GREGORIAN
BEGIN:VEVENT
DTSTART:20170630T230000Z
DTEND:20170701T000000Z
X-MICROSOFT-CDO-ALLDAYEVENT:FALSE
SUMMARY:Friday Concert Series at the Old Courthouse
DESCRIPTION:CURRENTLY NOT BOOKED
X-ALT-DESC;FMTTYPE=text/html:<div>CURRENTLY NOT BOOKED</div>\n
LOCATION:Old Historic Courthouse 1 Town Square\, Blairsville GA
UID:e.256.75222
SEQUENCE:3
DTSTAMP:20260420T004259Z
URL:https://members.visitblairsvillega.com/events/details/friday-concert-series-at-the-old-courthouse-06-30-2017-75222
END:VEVENT

END:VCALENDAR
