BEGIN:VCALENDAR
VERSION:2.0
PRODID:-//ChamberMaster//Event Calendar 2.0//EN
METHOD:PUBLISH
X-PUBLISHED-TTL:P3D
REFRESH-INTERVAL:P3D
CALSCALE:GREGORIAN
BEGIN:VEVENT
DTSTART:20160722T230000Z
DTEND:20160723T000000Z
X-MICROSOFT-CDO-ALLDAYEVENT:FALSE
SUMMARY:Friday Concert Series at the Old Courthouse
DESCRIPTION:Cedar Grove Grass (Traditional bluegrass) will perform Friday\, July 22nd at 7:00 pm at the Old Courthouse on the square in downtown Blairsville.\n\n\n\nGood\, traditional bluegrass music is coming back to the Old Courthouse on the Square on Friday\, July 22 with a concert by Cedar Grove Grass.  The program begins at 7:00 P.M.\n\n \n\nCedar Grove Grass got its name for the community where\, for years\, Ruth West and her late husband\, Gene\, hosted music in the Cedar Grove Community Center. Ruth lives part of the time in Blairsville and part of the time in Fairburn. She sings tenor and plays the doghouse bass. She is also the pianist for her church. \n\n\n\nTommy Nations plays guitar\, mandolin\, and sings lead.  He has played with a number of bands over a thirty-year span.  These bands include The Ridge Runners\, Honey Creek Boys\, Big Country\, and the Raccoon Creek All-Stars\, as well as Cedar Grove Grass.\n\n\n\nGene Terry has played guitar for over forty years and sings both lead and bass.  He also plays the banjo. \n\n \n\nDon Winebarger from Monticello\, GA plays banjo.  He has played with a number of bluegrass bands over the years\, and still does.\n\n\n\nCedar Grove Grass is on a mission to keep traditional bluegrass music alive by playing and promoting it in its original style.\n\n \n\nThe summer concerts are presented by the Union County Historical Society as a public service and to keep alive the tradition of music in The Old Courthouse.  There is never an admission charge\; the musicians donate their time and talents.  Voluntary contributions to the restoration fund are always welcomed and appreciated.
X-ALT-DESC;FMTTYPE=text/html:<div><span style="color: black\; font-family: &quot\;Calibri&quot\;\,&quot\;sans-serif&quot\;\;"><font size="3">Cedar Grove Grass&nbsp\;(Traditional bluegrass</font></span><span style="color: black\; font-family: &quot\;Calibri&quot\;\,&quot\;sans-serif&quot\;\; font-size: 12pt\; mso-fareast-font-family: Calibri\; mso-fareast-theme-font: minor-latin\; mso-bidi-font-family: &quot\;Times New Roman&quot\;\; mso-ansi-language: EN-US\; mso-fareast-language: EN-US\; mso-bidi-language: AR-SA\;">)</span> will perform Friday\,&nbsp\;July 22nd at 7:00 pm at the Old Courthouse on the square in downtown Blairsville.<br />\n<br />\n<span style="color:black\;"><span style="font-family:calibri\,sans-serif\;">Good\, traditional bluegrass music is coming back to the Old Courthouse on the Square on Friday\, July 22 with a concert by Cedar Grove Grass.&nbsp\; The program begins at 7:00 P.M.</span></span><br />\n<span style="color:black\;"><span style="font-family:calibri\,sans-serif\;">&nbsp\;<br />\nCedar Grove Grass got its name for the community where\, for years\, Ruth West and her late husband\, Gene\, hosted music in the Cedar Grove Community Center. Ruth lives part of the time in Blairsville and part of the time in Fairburn. She sings tenor and plays the doghouse bass. She is also the pianist for her church. </span></span><br />\n<br />\n<span style="color:black\;"><span style="font-family:calibri\,sans-serif\;">Tommy Nations plays guitar\, mandolin\, and sings lead.&nbsp\; He has played with a number of bands over a thirty-year span.&nbsp\; These bands include The Ridge Runners\, Honey Creek Boys\, Big Country\, and the Raccoon Creek All-Stars\, as well as Cedar Grove Grass.</span></span><br />\n<br />\n<span style="color:black\;"><span style="font-family:calibri\,sans-serif\;">Gene Terry has played guitar for over forty years and sings both lead and bass.&nbsp\; He also plays the banjo. </span></span><br />\n<span style="color:black\;"><span style="font-family:calibri\,sans-serif\;">&nbsp\;<br />\nDon Winebarger from Monticello\, GA plays banjo.&nbsp\; He has played with a number of bluegrass bands over the years\, and still does.</span></span><br />\n<br />\n<span style="color:black\;"><span style="font-family:calibri\,sans-serif\;">Cedar Grove Grass is on a mission to keep traditional bluegrass music alive by playing and promoting it in its original style.</span></span><br />\n<span style="color:black\;"><span style="font-family:calibri\,sans-serif\;">&nbsp\;<br />\nThe summer concerts are presented by the Union County Historical Society as a public service and to keep alive the tradition of music in The Old Courthouse.&nbsp\; There is never an admission charge\; the musicians donate their time and talents.&nbsp\; Voluntary contributions to the restoration fund are always welcomed and appreciated.</span></span><br />\n&nbsp\;</div>\n
LOCATION:Old Historic Courthouse 1 Town Square\, Blairsville GA
UID:e.256.51039
SEQUENCE:3
DTSTAMP:20260420T184232Z
URL:https://members.visitblairsvillega.com/events/details/friday-concert-series-at-the-old-courthouse-07-22-2016-51039
END:VEVENT

END:VCALENDAR
