BEGIN:VCALENDAR
VERSION:2.0
PRODID:-//ChamberMaster//Event Calendar 2.0//EN
METHOD:PUBLISH
X-PUBLISHED-TTL:P3D
REFRESH-INTERVAL:P3D
CALSCALE:GREGORIAN
BEGIN:VEVENT
DTSTART:20160729T230000Z
DTEND:20160730T000000Z
X-MICROSOFT-CDO-ALLDAYEVENT:FALSE
SUMMARY:Friday Concert Series at the Old Courthouse
DESCRIPTION:- The Wilson Family - (Gospel\, Bluegrass\, Old time) will perform Friday\, July 29th at 7:00 pm at the Old Courthouse on the square in downtown Blairsville.
X-ALT-DESC;FMTTYPE=text/html:<div><span style="color: black\; font-family: &quot\;Calibri&quot\;\,sans-serif\; font-size: 12pt\; mso-fareast-font-family: &quot\;Times New Roman&quot\;\; mso-bidi-font-family: &quot\;Times New Roman&quot\;\; mso-ansi-language: EN-US\; mso-fareast-language: EN-US\; mso-bidi-language: AR-SA\;">- </span><span style="color: red\; font-family: &quot\;Calibri&quot\;\,sans-serif\; font-size: 12pt\; mso-fareast-font-family: &quot\;Times New Roman&quot\;\; mso-bidi-font-family: &quot\;Times New Roman&quot\;\; mso-ansi-language: EN-US\; mso-fareast-language: EN-US\; mso-bidi-language: AR-SA\;">The Wilson Family - (Gospel\, Bluegrass\, Old time)</span> will perform Friday\,&nbsp\;July 29th at 7:00 pm at the Old Courthouse on the square in downtown Blairsville.</div>\n
LOCATION:Old Historic Courthouse 1 Town Square\, Blairsville GA
UID:e.256.51040
SEQUENCE:3
DTSTAMP:20260420T203228Z
URL:https://members.visitblairsvillega.com/events/details/friday-concert-series-at-the-old-courthouse-07-29-2016-51040
END:VEVENT

END:VCALENDAR
