BEGIN:VCALENDAR
VERSION:2.0
PRODID:-//ChamberMaster//Event Calendar 2.0//EN
METHOD:PUBLISH
X-PUBLISHED-TTL:P3D
REFRESH-INTERVAL:P3D
CALSCALE:GREGORIAN
BEGIN:VEVENT
DTSTART:20170901T230000Z
DTEND:20170902T000000Z
X-MICROSOFT-CDO-ALLDAYEVENT:FALSE
SUMMARY:Friday Concert Series at the Old Courthouse
DESCRIPTION:NEARLY NORMAL STRING BAND will perform Friday\, September 1st at 7:00 pm at the Old Courthouse on the square in downtown Blairsville.
X-ALT-DESC;FMTTYPE=text/html:<div>NEARLY NORMAL STRING BAND&nbsp\;will perform Friday\, September 1st&nbsp\;at 7:00 pm at the Old Courthouse on the square in downtown Blairsville.</div>\n
LOCATION:Old Historic Courthouse 1 Town Square\, Blairsville GA
UID:e.256.75231
SEQUENCE:3
DTSTAMP:20260419T193023Z
URL:https://members.visitblairsvillega.com/events/details/friday-concert-series-at-the-old-courthouse-09-01-2017-75231
END:VEVENT

END:VCALENDAR
