BEGIN:VCALENDAR
VERSION:2.0
PRODID:-//ChamberMaster//Event Calendar 2.0//EN
METHOD:PUBLISH
X-PUBLISHED-TTL:P3D
REFRESH-INTERVAL:P3D
CALSCALE:GREGORIAN
BEGIN:VEVENT
DTSTART:20171006T230000Z
DTEND:20171007T000000Z
X-MICROSOFT-CDO-ALLDAYEVENT:FALSE
SUMMARY:Friday Concert Series at the Old Courthouse
DESCRIPTION:LIJ SAGE will perform Friday\, October 6th at 7:00 pm at the Old Courthouse on the square in downtown Blairsville.
X-ALT-DESC;FMTTYPE=text/html:<div>LIJ SAGE will perform Friday\, October 6th&nbsp\;at 7:00 pm at the Old Courthouse on the square in downtown Blairsville.</div>\n
LOCATION:Old Historic Courthouse 1 Town Square\, Blairsville GA
UID:e.256.75236
SEQUENCE:3
DTSTAMP:20260419T160208Z
URL:https://members.visitblairsvillega.com/events/details/friday-concert-series-at-the-old-courthouse-10-06-2017-75236
END:VEVENT

END:VCALENDAR
