BEGIN:VCALENDAR
VERSION:2.0
PRODID:-//ChamberMaster//Event Calendar 2.0//EN
METHOD:PUBLISH
X-PUBLISHED-TTL:P3D
REFRESH-INTERVAL:P3D
CALSCALE:GREGORIAN
BEGIN:VEVENT
DTSTART:20161014T230000Z
DTEND:20161015T000000Z
X-MICROSOFT-CDO-ALLDAYEVENT:FALSE
SUMMARY:Friday Concert Series at the Old Courthouse
DESCRIPTION:John Nix and The Country Cousins (Country\, Old-time mountain music) will perform Friday\, October 14th at 7:00 pm at the Old Courthouse on the square in downtown Blairsville.
X-ALT-DESC;FMTTYPE=text/html:<div><span style="color: black\; font-family: &quot\;Calibri&quot\;\,&quot\;sans-serif&quot\;\;"><font size="3">John Nix and The Country Cousins (Country\, Old-time mountain </font></span><span style="color: black\; font-family: &quot\;Calibri&quot\;\,&quot\;sans-serif&quot\;\;"><font size="3">music) </font></span>will perform Friday\, October 14th at 7:00 pm at the Old Courthouse on the square in downtown Blairsville.</div>\n
LOCATION:Old Historic Courthouse 1 Town Square\, Blairsville GA
UID:e.256.51051
SEQUENCE:3
DTSTAMP:20260420T131324Z
URL:https://members.visitblairsvillega.com/events/details/friday-concert-series-at-the-old-courthouse-10-14-2016-51051
END:VEVENT

END:VCALENDAR
