BEGIN:VCALENDAR
VERSION:2.0
PRODID:-//ChamberMaster//Event Calendar 2.0//EN
METHOD:PUBLISH
X-PUBLISHED-TTL:P3D
REFRESH-INTERVAL:P3D
CALSCALE:GREGORIAN
BEGIN:VEVENT
DTSTART:20140321T220000Z
DTEND:20140322T000000Z
X-MICROSOFT-CDO-ALLDAYEVENT:FALSE
SUMMARY:FRIDAY EVENING TAPAS
DESCRIPTION:Join us for FRIDAY EVENING TAPAS\n\nEvery Friday from 6 p.m. to 8 p.m\n\nPrices range from $4.00-$12.00\, with wine sold by the glass and by the bottle.
X-ALT-DESC;FMTTYPE=text/html:Join us for&nbsp\;FRIDAY EVENING TAPAS<br />\nEvery Friday from&nbsp\;6 p.m. to&nbsp\;8 p.m<br />\nPrices range from $4.00-$12.00\, with wine sold by the glass and by the bottle. 
LOCATION:Crane Creek Vineyards 916 Crane Creek Rd Young Harris\, GA
UID:e.256.22085
SEQUENCE:3
DTSTAMP:20260424T152723Z
URL:https://members.visitblairsvillega.com/events/details/friday-evening-tapas-03-21-2014-22085
END:VEVENT

END:VCALENDAR
