BEGIN:VCALENDAR
VERSION:2.0
PRODID:-//ChamberMaster//Event Calendar 2.0//EN
METHOD:PUBLISH
X-PUBLISHED-TTL:P3D
REFRESH-INTERVAL:P3D
CALSCALE:GREGORIAN
BEGIN:VEVENT
DTSTART:20170310T150000Z
DTEND:20170311T010000Z
X-MICROSOFT-CDO-ALLDAYEVENT:FALSE
SUMMARY:Friday Fashion Frenzy with Premier Designs & LuLaRoe!
DESCRIPTION:JOIN LORI WATSON & FRIENDS FOR A FRIDAY FASHION FRENZY!! Alysia with Premier Designs and April with LuLaRoe are going to take the guesswork out of getting dressed in the morning and help you identify your style and create simple everyday looks! SIMPLIFY YOUR LIFE...ELEVATE YOUR STYLE! Knowing your personal style can be tough\, and figuring how to fit it in your lifestyle can be even more challenging! Let Premier Designs Jewelry and LuLaRoe help!!   CAN'T JOIN US IN PERSON?   Ask Alysia and April about placing an order for your must have items!
X-ALT-DESC;FMTTYPE=text/html:JOIN LORI WATSON &amp\; FRIENDS FOR A FRIDAY FASHION FRENZY!! Alysia with Premier Designs and April with LuLaRoe are going to take the guesswork out of getting dressed in the morning and help you identify your style and create simple everyday looks! SIMPLIFY YOUR LIFE...ELEVATE YOUR STYLE! Knowing your personal style can be tough\, and figuring how to fit it in your lifestyle can be even more challenging! Let Premier Designs Jewelry and LuLaRoe help!! &gt\;&gt\;CAN&#39\;T JOIN US IN PERSON?&lt\;&lt\; Ask Alysia and April about placing an order for your must have items!
LOCATION:108 Blue Ridge Hwy\, Ste. 9\, Blairsville
UID:e.256.67480
SEQUENCE:3
DTSTAMP:20260420T061635Z
URL:https://members.visitblairsvillega.com/events/details/friday-fashion-frenzy-with-premier-designs-lularoe-67480
END:VEVENT

END:VCALENDAR
