BEGIN:VCALENDAR
VERSION:2.0
PRODID:-//ChamberMaster//Event Calendar 2.0//EN
METHOD:PUBLISH
X-PUBLISHED-TTL:P3D
REFRESH-INTERVAL:P3D
CALSCALE:GREGORIAN
BEGIN:VEVENT
DTSTART:20150515T230000Z
DTEND:20150516T000000Z
X-MICROSOFT-CDO-ALLDAYEVENT:FALSE
SUMMARY:Friday Night Concert Series
DESCRIPTION:Friday Night Concerts at the Old Courthouse on the square. \n\nPerformance By: North Georgia Chamber Symphony\n\nThe North Georgia Chamber Symphony came into being in 2002 as a community and school orchestra at North Georgia College and State University. \n\n\n\nIn spring of 2007\, the group decided to separate from the school and become a private organization with the goal of growing into an organization with community support\, community players\, professional players and local college students to add orchestral music to an area where bluegrass\, old-time and other musical traditions already had a firm foothold. The group also wanted to provide an orchestra and ensemble for local students interested in classical music. \n\n\n\nThe group's incorporation was completed in May of 2007\, and its non-profit status was approved by the IRS on April 1\, 2008. Playing as The Appalachian Chamber Orchestra from The North Georgia Chamber Symphony\, Inc.\n\n \n\nIn more recent years\, the organization\, which is considered a medium-sized chamber orchestra\, has performed as The North Georgia Chamber Symphony\, Inc.\, at periodic concerts in Blairsville\, Dahlonega\, Gainesville and Dawsonville\, and its smaller ensemble has continued to make appearances at assisted living and nursing home facilities in the area and at local civic events. \n\n \n\nLaurin Smith\, who started the orchestra and has been its director and conductor ever since that time\,.studied extensively in the New York area with Masao Kawasaki and Itzhak Perlman. Since returning to his native Georgia\, he has shared that knowledge with the members of the group and his students. An accomplished violinist\, Smith performs regularly with symphony orchestras and chamber music ensembles in the area. \n\n\n\nThe program will open with Prokofiev's March from the Love for Three Oranges\, followed by Biber's Partita for Strings\, which consists of 5 little baroque dances.  Our featured selection is Mozart's Piano Concerto No.12 in A Major\, with soloist Joanna Kim\, from UNG-Gainesville.  Franck's 4 Short pieces\, Elgar's beautiful Serenade for Strings\, Ellington's Don't Get Around Much Anymore\,  Blue Rhythmico\, and a bluegrass special Blue-Fire Fiddler round out the program.\n\n\n\nThere is never an admission charge to the concerts presented by the Union County Historical Society.  The musicians donate their time and talents. Voluntary donations to the maintenance fund are always welcomed and appreciated.\n\n\n\nSo please come and join us for an evening of music. Meet your friends and make new friends.
X-ALT-DESC;FMTTYPE=text/html:<font face="Helvetica"><font color="#000000"><span style="font-size: 9.5pt\;">Friday Night Concerts at the Old Courthouse on the square.&nbsp\;</span><br />\nPerformance&nbsp\;By:&nbsp\;North Georgia Chamber Symphony</font></font>\n\n<p><span style="font-size: 12px\;"><span style="font-family: arial\;"><span style="color: black\;">The North Georgia Chamber Symphony came into being in 2002 as a community and school orchestra at North Georgia College and State University. </span></span><br />\n<br />\n<span style="color: black\;">In spring of 2007\, the group decided to separate from the school and become a private organization with the goal of growing into an organization with community support\, community players\, professional players and local college students to add orchestral music to an area where bluegrass\, old-time and other musical traditions already had a firm foothold. The group also wanted to provide an orchestra and ensemble for local students interested in classical music.&nbsp\;</span><br />\n<br />\n<span style="color: black\;">The group&#39\;s incorporation was completed in May of 2007\, and its non-profit status was approved by the IRS on April 1\, 2008. Playing as The Appalachian Chamber Orchestra from The North Georgia Chamber Symphony\, Inc.</span><br />\n<strong id="yiv7691944798yui_3_16_0_1_1431366499025_3057"><span style="color: black\;">&nbsp\;</span></strong><br />\n<span style="color: black\;">In more recent years\, the organization\, which is considered a medium-sized chamber orchestra\, has performed as The North Georgia Chamber Symphony\, Inc.\, at periodic concerts in Blairsville\, Dahlonega\, Gainesville and Dawsonville\, and its smaller ensemble has continued to make appearances at assisted living and nursing home facilities in the area and at local civic events.&nbsp\;</span><br />\n<span style="font-family: arial\;"><span style="color: black\;">&nbsp\;<br />\nLaurin Smith\, who started the orchestra and has been its director and conductor ever since that time\,.studied extensively in the New York area with Masao Kawasaki and Itzhak Perlman. Since returning to his native Georgia\, he has shared that knowledge with the members of the group and his students. An accomplished violinist\, Smith performs regularly with symphony orchestras and chamber music ensembles in the area.&nbsp\;</span><br />\n<br />\n<span style="color: black\;">The program will open with Prokofiev&rsquo\;s March from the Love for Three Oranges\, followed by Biber&rsquo\;s Partita for Strings\, which consists of 5 little baroque dances.&nbsp\; Our featured selection is Mozart&rsquo\;s Piano Concerto No.12 in A Major\, with soloist Joanna Kim\, from UNG-Gainesville.&nbsp\; Franck&rsquo\;s 4 Short pieces\, Elgar&rsquo\;s beautiful Serenade for Strings\, Ellington&rsquo\;s Don&rsquo\;t Get Around Much Anymore\,&nbsp\; Blue Rhythmico\, and a bluegrass special Blue-Fire Fiddler round out the program.</span><br />\n<br />\n<span style="color: black\;">There is never an admission charge to the concerts presented by the Union County Historical Society.&nbsp\; The musicians donate their time and talents. Voluntary donations to the maintenance fund are always welcomed and appreciated.</span></span></span><br />\n<br />\n<span style="font-size: 9.5pt\;"><span style="font-family: helvetica\,sans-serif\;"><span style="color: black\;">So please come and join us for an evening of music. Meet your friends and make new friends.</span></span></span></p>\n
LOCATION:Old Courthouse Downtown Blairsville\, GA
UID:e.256.40164
SEQUENCE:3
DTSTAMP:20260423T194551Z
URL:https://members.visitblairsvillega.com/events/details/friday-night-concert-series-05-15-2015-40164
END:VEVENT

END:VCALENDAR
