BEGIN:VCALENDAR
VERSION:2.0
PRODID:-//ChamberMaster//Event Calendar 2.0//EN
METHOD:PUBLISH
X-PUBLISHED-TTL:P3D
REFRESH-INTERVAL:P3D
CALSCALE:GREGORIAN
BEGIN:VEVENT
DTSTART:20151023T230000Z
DTEND:20151024T000000Z
X-MICROSOFT-CDO-ALLDAYEVENT:FALSE
SUMMARY:Friday Night Concert Series
DESCRIPTION:Friday Night Concerts at the Old Courthouse on the square. \n\nPerformance By: Nelson Thomas - Folk \, Mountain Country\n\n\n\n So please come and join us for an evening of music. Meet your friends and make new friends.
X-ALT-DESC;FMTTYPE=text/html:<font face="Helvetica"><font color="#000000"><span style="font-size: 9.5pt\;">Friday Night Concerts at the Old Courthouse on the square.&nbsp\;</span><br />\nPerformance&nbsp\;By: </font></font><span style="font-size: medium\;"><span style="font-family: consolas\;">Nelson Thomas - Folk \, Mountain Country</span></span><br />\n<br />\n&nbsp\;<span style="font-size: 9.5pt\;"><span style="font-family: helvetica\,sans-serif\;"><span style="color: black\;">So please come and join us for an evening of music. Meet your friends and make new friends.</span></span></span>
LOCATION:Old Courthouse Downtown Blairsville\, GA
UID:e.256.40187
SEQUENCE:3
DTSTAMP:20260423T115704Z
URL:https://members.visitblairsvillega.com/events/details/friday-night-concert-series-10-23-2015-40187
END:VEVENT

END:VCALENDAR
