BEGIN:VCALENDAR
VERSION:2.0
PRODID:-//ChamberMaster//Event Calendar 2.0//EN
METHOD:PUBLISH
X-PUBLISHED-TTL:P3D
REFRESH-INTERVAL:P3D
CALSCALE:GREGORIAN
BEGIN:VEVENT
DTSTART:20151030T230000Z
DTEND:20151031T000000Z
X-MICROSOFT-CDO-ALLDAYEVENT:FALSE
SUMMARY:Friday Night Concert Series
DESCRIPTION:Friday Night Concerts at the Old Courthouse on the square. \n\nPerformance By: The Skillet Lickers - Old Time Fiddle\, Bluegrass\n\n \n\nSo please come and join us for an evening of music. Meet your friends and make new friends.
X-ALT-DESC;FMTTYPE=text/html:<font face="Helvetica"><font color="#000000"><span style="font-size: 9.5pt\;">Friday Night Concerts at the Old Courthouse on the square.&nbsp\;</span><br />\nPerformance&nbsp\;By:&nbsp\;The Skillet Lickers - Old Time Fiddle\, Bluegrass</font></font><br />\n&nbsp\;<br />\n<span style="font-size: 9.5pt\;"><span style="font-family: helvetica\,sans-serif\;"><span style="color: black\;">So please come and join us for an evening of music. Meet your friends and make new friends.</span></span></span>
LOCATION:Old Courthouse Downtown Blairsville\, GA
UID:e.256.40188
SEQUENCE:3
DTSTAMP:20260423T115705Z
URL:https://members.visitblairsvillega.com/events/details/friday-night-concert-series-10-30-2015-40188
END:VEVENT

END:VCALENDAR
