BEGIN:VCALENDAR
VERSION:2.0
PRODID:-//ChamberMaster//Event Calendar 2.0//EN
METHOD:PUBLISH
X-PUBLISHED-TTL:P3D
REFRESH-INTERVAL:P3D
CALSCALE:GREGORIAN
BEGIN:VEVENT
DTSTART:20141108T000000Z
DTEND:20141108T000000Z
X-MICROSOFT-CDO-ALLDAYEVENT:FALSE
SUMMARY:Friday Night Concerts at Old Historic Court House
DESCRIPTION:Skillet Lickers Close Concert Season\n\n   It is only fitting that the The Union County Historical Society presents a grand finale to the concert season with  a program that features the world famous Skillet Lickers.  The concert will begin at 7:00 p.m. On Friday\, November 7 in The Old Courthouse on the Square.\n\n    The original Skillet Lickers\, lead by Gid Tanner\, were the second group to record what eventually became known as country music. It was the Skillet Lickers who influenced the formation of country music more than any of the other pioneer recording bands.  Many of their songs are standards today\, and are performed at almost any festival or gathering of musicians.  The melody line of one of their recordings "Pass Around the Bottle and We'll All Take a Drink" is the same tune used in the University of Georgia fight song.  Their 1934 recording of "Down Yonder" was the first "country" song to sell a million copies and is the favorite of most square dancing groups today. \n\n    The Skillet Lickers probably hold the record for the longevity of a band.  It has now been over ninety years since their first recording\, and they are still going strong.  In addition\, many of the present band members have family ties that go back to the original band members.\n\n    Phil Tanner and his son\, Russ\, represent the third and fourth generations of direct descent from Gid\, himself. Gid's son\, and Phil's father\, was Gordon Tanner who kept the band going for many years.\n\n    Fleet Stanley\, who plays dobro with the group\, is the grandson of Rob Stanley.  Rob was a prot g  of both Gid Tanner and John Carson.  He won the state fiddling championship in 1918.\n\n    Larry Holcomb is the bass player\, and Brian Morgan sings and plays mandolin.\n\n    Joel Aderhold\, banjo player for the group\, has long been a part of the north Georgia bluegrass scene.  He\, along with his wife Earlene and multiple generations of their families have been involved in making music.\n\n    The Old Courthouse on the Square in Blairsville is a favorite venue of the Skillet Lickers. In fact\, the original band performed here more than seventy-five years ago. Band member Fleet Stanley's parents were married in the old building. The band has recorded a live album in The Old Courthouse.  They have also compiled CD's from old original recordings of the Skillet Lickers and will have them on sale after their performance.\n\n    The Union County Historical Society wishes to thank everyone who makes the concerts a success\, especially the member volunteers and the musicians who have donated their time and talents.  There is no required admission charge to the concerts.  Voluntary contributions to the restoration fund are always welcomed and appreciated.
X-ALT-DESC;FMTTYPE=text/html:<span style="font-size: 12px\;"><strong><span style="font-family: calibri\,sans-serif\;">Skillet Lickers Close Concert Season</span></strong><br />\n&nbsp\;<span style="font-family: calibri\,sans-serif\;">&nbsp\; It is only fitting that the The Union County Historical Society presents a grand finale to the concert season with&nbsp\; a program that features the world famous Skillet Lickers.&nbsp\; The concert will begin at 7:00 p.m. On Friday\, November 7 in The Old Courthouse on the Square.</span><br />\n<span style="font-family: calibri\,sans-serif\;">&nbsp\;&nbsp\;&nbsp\; The original Skillet Lickers\, lead by Gid Tanner\, were the second group to record what eventually became known as country music. It was the Skillet Lickers who influenced the formation of country music more than any of the other pioneer recording bands.&nbsp\; Many of their songs are standards today\, and are performed at almost any festival or gathering of musicians.&nbsp\; The melody line of one of their recordings &quot\;Pass Around the Bottle and We&#39\;ll All Take a Drink&quot\; is the same tune used in the University of Georgia fight song.&nbsp\; Their 1934 recording of &quot\;Down Yonder&quot\; was the first &quot\;country&quot\; song to sell a million copies and is the favorite of most square dancing groups today. </span><br />\n<span style="font-family: calibri\,sans-serif\;">&nbsp\;&nbsp\;&nbsp\; The Skillet Lickers probably hold the record for the longevity of a band.&nbsp\; It has now been over ninety years since their first recording\, and they are still going strong.&nbsp\; In addition\, many of the present band members have family ties that go back to the original band members.</span><br />\n<span style="font-family: calibri\,sans-serif\;">&nbsp\;&nbsp\;&nbsp\; Phil Tanner and his son\, Russ\, represent the third and fourth generations of direct descent from Gid\, himself. Gid&#39\;s son\, and Phil&#39\;s father\, was Gordon Tanner who kept the band going for many years.</span><br />\n<span style="font-family: calibri\,sans-serif\;">&nbsp\;&nbsp\;&nbsp\; Fleet Stanley\, who plays dobro with the group\, is the grandson of Rob Stanley.&nbsp\; Rob was a prot&eacute\;g&eacute\; of both Gid Tanner and John Carson.&nbsp\; He won the state fiddling championship in 1918.</span><br />\n<span style="font-family: calibri\,sans-serif\;">&nbsp\;&nbsp\;&nbsp\; Larry Holcomb is the bass player\, and Brian Morgan sings and plays mandolin.</span><br />\n<span style="font-family: calibri\,sans-serif\;">&nbsp\;&nbsp\;&nbsp\; Joel Aderhold\, banjo player for the group\, has long been a part of the north Georgia bluegrass scene.&nbsp\; He\, along with his wife Earlene and multiple generations of their families have been involved in making music.</span><br />\n<span style="font-family: calibri\,sans-serif\;">&nbsp\;&nbsp\;&nbsp\; The Old Courthouse on the Square in Blairsville is a favorite venue of the Skillet Lickers. In fact\, the original band performed here more than seventy-five years ago. Band member Fleet Stanley&#39\;s parents were married in the old building. The band has recorded a live album in The Old Courthouse.&nbsp\; They have also compiled CD&#39\;s from old original recordings of the Skillet Lickers and will have them on sale after their performance.</span><br />\n<span style="font-family: calibri\,sans-serif\;">&nbsp\;&nbsp\;&nbsp\; The Union County Historical Society wishes to thank everyone who makes the concerts a success\, especially the member volunteers and the musicians who have donated their time and talents.&nbsp\; There is no required admission charge to the concerts.&nbsp\; Voluntary contributions to the restoration fund are always welcomed and appreciated.</span><br />\n&nbsp\;<br />\n&nbsp\;</span><br />\n&nbsp\;
LOCATION:Old Historic Court House Downtown Blairsville
UID:e.256.27716
SEQUENCE:3
DTSTAMP:20260424T034227Z
URL:https://members.visitblairsvillega.com/events/details/friday-night-concerts-at-old-historic-court-house-11-07-2014-27716
END:VEVENT

END:VCALENDAR
