BEGIN:VCALENDAR
VERSION:2.0
PRODID:-//ChamberMaster//Event Calendar 2.0//EN
METHOD:PUBLISH
X-PUBLISHED-TTL:P3D
REFRESH-INTERVAL:P3D
CALSCALE:GREGORIAN
BEGIN:VEVENT
DTSTART:20141017T210000Z
DTEND:20141018T000000Z
X-MICROSOFT-CDO-ALLDAYEVENT:FALSE
SUMMARY:Friday Night Live Music at Hightower Creek Vineyards
DESCRIPTION:October 17\, 2014: Tonight we have a special guest\, Jason Alexander Carter\, who will be singing and playing from 5-8pm. Jason is a really talented musician that we think you will truly enjoy! No cover charge! Come relax\, have a glass of wine and enjoy the nice fall weather with Jason.
X-ALT-DESC;FMTTYPE=text/html:October 17\, 2014: Tonight we have a special guest\, Jason Alexander Carter\, who will be singing and playing from 5-8pm. Jason is a really talented musician that we think you will truly enjoy! No cover charge! Come relax\, have a glass of wine and enjoy the nice fall weather with Jason.
LOCATION:7150 Canaan Drive Hiawassee\, GA 30546
UID:e.256.27595
SEQUENCE:3
DTSTAMP:20260424T045627Z
URL:https://members.visitblairsvillega.com/events/details/friday-night-live-music-at-hightower-creek-vineyards-10-17-2014-27595
END:VEVENT

END:VCALENDAR
