BEGIN:VCALENDAR
VERSION:2.0
PRODID:-//ChamberMaster//Event Calendar 2.0//EN
METHOD:PUBLISH
X-PUBLISHED-TTL:P3D
REFRESH-INTERVAL:P3D
CALSCALE:GREGORIAN
BEGIN:VEVENT
DTSTART:20141010T223000Z
DTEND:20141011T010000Z
X-MICROSOFT-CDO-ALLDAYEVENT:FALSE
SUMMARY:Friday Night Painting Party
DESCRIPTION:Celebrate Friday Night with a Painting Party!  All supplies included\, just bring your playful and creative side\, and a friend! This class is meant to be as much fun as instructional and you're encouraged to wear play clothes!
X-ALT-DESC;FMTTYPE=text/html:<span style="font-family:calibri\,sans-serif\;"><span style="font-size:11.0pt\;">Celebrate Friday Night with a Painting Party!&nbsp\; All supplies included\, just bring your playful and creative side\, and a friend! This class is meant to be as much fun as instructional and you&#39\;re encouraged to wear play clothes!</span></span>
LOCATION:Inspire Art Studio 51 Earnest St. Suite C
UID:e.256.27524
SEQUENCE:3
DTSTAMP:20260424T045245Z
URL:https://members.visitblairsvillega.com/events/details/friday-night-painting-party-10-10-2014-27524
END:VEVENT

END:VCALENDAR
