BEGIN:VCALENDAR
VERSION:2.0
PRODID:-//ChamberMaster//Event Calendar 2.0//EN
METHOD:PUBLISH
X-PUBLISHED-TTL:P3D
REFRESH-INTERVAL:P3D
CALSCALE:GREGORIAN
BEGIN:VEVENT
DTSTART;VALUE=DATE:20140502
DTEND;VALUE=DATE:20140503
TRANSP:TRANSPARENT
X-MICROSOFT-CDO-ALLDAYEVENT:TRUE
SUMMARY:FRIENDS HAS BIG BOOK SALE!
DESCRIPTION:The Friends are having a book sale and we want to see YOU there.  We will have thousands of books\, etc.\, in all categories: fiction\, non-fiction\, histories\, biographies\, mysteries\, romances\, cookbooks\, travel guides\, children's books\, videos\, cassettes\, puzzles\, and games\, among others.
X-ALT-DESC;FMTTYPE=text/html:<span style="font-family: verdana\;"><span style="color: rgb(0\, 0\, 0)\;"><span style="font-size: 16px\;">The Friends are having a book sale and we want to see YOU there.&nbsp\; We will have thousands of books\, etc.\, in all categories: fiction\, non-fiction\, histories\, biographies\, mysteries\, romances\, cookbooks\, travel guides\, children&#39\;s books\, videos\, cassettes\, puzzles\, and games\, among others.</span></span></span>
LOCATION:The Community Room of the Union County Library in Blairsville
UID:e.256.23287
SEQUENCE:3
DTSTAMP:20260424T122312Z
URL:https://members.visitblairsvillega.com/events/details/friends-has-big-book-sale-05-02-2014-23287
END:VEVENT

END:VCALENDAR
