BEGIN:VCALENDAR
VERSION:2.0
PRODID:-//ChamberMaster//Event Calendar 2.0//EN
METHOD:PUBLISH
X-PUBLISHED-TTL:P3D
REFRESH-INTERVAL:P3D
CALSCALE:GREGORIAN
BEGIN:VEVENT
DTSTART:20160826T130000Z
DTEND:20160826T210000Z
X-MICROSOFT-CDO-ALLDAYEVENT:FALSE
SUMMARY:Friends of the Libraries of Towns County--Book/Bake/Furniture Sale
DESCRIPTION:Mega sale of books\, baked goods\, and library/office furniture to benefit the 2 libraries of Towns County\, Georgia.
X-ALT-DESC;FMTTYPE=text/html:<span style="font-size:14px"><span style="color:rgb(99\, 82\, 65)"><span style="font-family:verdana\,sans-serif">Mega sale of books\, baked goods\, and library/office furniture to benefit the 2 libraries of Towns County\, Georgia.</span></span></span><br>\n&nbsp\;
LOCATION:Mountain Regional Library (temporary location) (warehouse at back of old EMC building) 1360 Main St. Young Harris\, Georgia
UID:e.256.55599
SEQUENCE:3
DTSTAMP:20260420T165639Z
URL:https://members.visitblairsvillega.com/events/details/friends-of-the-libraries-of-towns-county-book-bake-furniture-sale-08-26-2016-55599
END:VEVENT

END:VCALENDAR
