BEGIN:VCALENDAR
VERSION:2.0
PRODID:-//ChamberMaster//Event Calendar 2.0//EN
METHOD:PUBLISH
X-PUBLISHED-TTL:P3D
REFRESH-INTERVAL:P3D
CALSCALE:GREGORIAN
BEGIN:VEVENT
DTSTART:20160827T140000Z
DTEND:20160827T180000Z
X-MICROSOFT-CDO-ALLDAYEVENT:FALSE
SUMMARY:Friends of the Libraries of Towns County--Book/Bake/Furniture Sale
DESCRIPTION:Mega sale of books\, baked goods\, and library/office furniture to benefit the 2 libraries of Towns County\, Georgia.
X-ALT-DESC;FMTTYPE=text/html:Mega sale of books\, baked goods\, and library/office furniture to benefit the 2 libraries of Towns County\, Georgia.
LOCATION:Mountain Regional Library (warehouse at back of old EMC building) 1360 Main St. Young Harris\, Georgia
UID:e.256.55538
SEQUENCE:3
DTSTAMP:20260420T165639Z
URL:https://members.visitblairsvillega.com/events/details/friends-of-the-libraries-of-towns-county-book-bake-furniture-sale-08-27-2016-55538
END:VEVENT

END:VCALENDAR
