BEGIN:VCALENDAR
VERSION:2.0
PRODID:-//ChamberMaster//Event Calendar 2.0//EN
METHOD:PUBLISH
X-PUBLISHED-TTL:P3D
REFRESH-INTERVAL:P3D
CALSCALE:GREGORIAN
BEGIN:VEVENT
DTSTART:20170603T140000Z
DTEND:20170603T180000Z
X-MICROSOFT-CDO-ALLDAYEVENT:FALSE
SUMMARY:Friends of the Libraries of Towns County Book & Bake Sale
DESCRIPTION:Friends of the Libraries of Towns County's annual book and bake sale at the Mountain Regional Library in Young Harris. There will be books galore (fiction\, nonfiction\, local authors\, hardbacks\, paperbacks\, etc.)\, about 1000 music CDs\, and delicious baked goodies. Raffle tickets will be sold for two baskets (one donated by Crane Creek Vineyard). Proceeds will be used to purchase books and other library materials and to help fund the children's summer reading programs for the Mountain Regional Library and the Towns County Public Library.
X-ALT-DESC;FMTTYPE=text/html:Friends of the Libraries of Towns County&#39\;s annual book and bake sale at the Mountain Regional Library in Young Harris. There will be books galore (fiction\, nonfiction\, local authors\, hardbacks\, paperbacks\, etc.)\, about 1000 music CDs\, and delicious baked goodies. Raffle tickets will be sold for two baskets (one donated by Crane Creek Vineyard). Proceeds will be used to purchase books and other library materials and to help fund the children&#39\;s summer reading programs for the Mountain Regional Library and the Towns County Public Library.
LOCATION:Mountain Regional Library\, 698 Miller St.\, Young Harris\, GA: Book sale in the Community Room\; bake sale in the lobby.
UID:e.256.73857
SEQUENCE:3
DTSTAMP:20260420T004743Z
URL:https://members.visitblairsvillega.com/events/details/friends-of-the-libraries-of-towns-county-book-bake-sale-06-03-2017-73857
END:VEVENT

END:VCALENDAR
