BEGIN:VCALENDAR
VERSION:2.0
PRODID:-//ChamberMaster//Event Calendar 2.0//EN
METHOD:PUBLISH
X-PUBLISHED-TTL:P3D
REFRESH-INTERVAL:P3D
CALSCALE:GREGORIAN
BEGIN:VEVENT
DTSTART:20171014T140000Z
DTEND:20171014T180000Z
X-MICROSOFT-CDO-ALLDAYEVENT:FALSE
SUMMARY:Friends of the Libraries of Towns County Book & Bake Sale
DESCRIPTION:Friends of the Libraries of Towns County Book and Bake Sale
X-ALT-DESC;FMTTYPE=text/html:Friends of the Libraries of Towns County Book and Bake Sale
LOCATION:Mountain Regional Library 698 Miller St. Young Harris\, GA
UID:e.256.76115
SEQUENCE:3
DTSTAMP:20260419T160712Z
URL:https://members.visitblairsvillega.com/events/details/friends-of-the-libraries-of-towns-county-book-bake-sale-10-14-2017-76115
END:VEVENT

END:VCALENDAR
